BEGIN:VCALENDAR
PRODID:-//vBulletin 6//EN
VERSION:2.0
CALSCALE:GREGORIAN
BEGIN:VEVENT
UID:975e8b3d-bef3-4785-a624-25974691b977
DTSTAMP:20260425T181725Z
SUMMARY:Arcis-sur-Aube (F)\, Reenactment 29.-30. Juni 2024: Allierte gesuch
 t
DESCRIPTION:Hallo zusammen\,\n\nwer hat Lust vom 29. bis 30. Juni 2024 als 
 Alliierter nach Arcis-sur-Aube (F) zu kommen? Programm ist beigefügt.\n\n
 Cordialement\nLe Fusilier
URL:https://forum.napoleon-online.de/node/55243
DTSTART;VALUE=DATE:20240628
DTEND;VALUE=DATE:20240701
LOCATION:Arcis-sur-Aube (F)\, Reenactment
END:VEVENT
END:VCALENDAR
